Package: scAnnotatR Version: 1.15.0 Command: /Library/Frameworks/R.framework/Resources/bin/R CMD check --install=check:scAnnotatR.install-out.txt --library=/Library/Frameworks/R.framework/Resources/library --no-vignettes --timings scAnnotatR_1.15.0.tar.gz StartedAt: 2025-06-29 21:12:18 -0400 (Sun, 29 Jun 2025) EndedAt: 2025-06-29 21:15:00 -0400 (Sun, 29 Jun 2025) EllapsedTime: 162.0 seconds RetCode: 0 Status: WARNINGS CheckDir: scAnnotatR.Rcheck Warnings: 1