Package: satuRn Version: 1.17.0 Command: /home/biocbuild/R/R/bin/R CMD INSTALL satuRn StartedAt: 2025-07-21 20:44:03 -0000 (Mon, 21 Jul 2025) EndedAt: 2025-07-21 20:44:34 -0000 (Mon, 21 Jul 2025) EllapsedTime: 31.1 seconds RetCode: 0 Status: OK