Package: satuRn Version: 1.17.0 Command: F:\biocbuild\bbs-3.22-bioc\R\bin\R.exe CMD check --no-multiarch --install=check:satuRn.install-out.txt --library=F:\biocbuild\bbs-3.22-bioc\R\library --no-vignettes --timings satuRn_1.17.0.tar.gz StartedAt: 2025-07-15 06:08:19 -0400 (Tue, 15 Jul 2025) EndedAt: 2025-07-15 06:12:24 -0400 (Tue, 15 Jul 2025) EllapsedTime: 244.9 seconds RetCode: 0 Status: OK CheckDir: satuRn.Rcheck Warnings: 0