Package: satuRn Version: 1.17.0 Command: rm -rf satuRn.buildbin-libdir && mkdir satuRn.buildbin-libdir && F:\biocbuild\bbs-3.22-bioc\R\bin\R.exe CMD INSTALL --build --library=satuRn.buildbin-libdir satuRn_1.17.0.tar.gz StartedAt: 2025-07-16 09:48:46 -0400 (Wed, 16 Jul 2025) EndedAt: 2025-07-16 09:49:25 -0400 (Wed, 16 Jul 2025) EllapsedTime: 39.1 seconds RetCode: 0 Status: OK PackageFile: satuRn_1.17.0.zip PackageFileSize: 3.226 MiB