Package: saseR Version: 1.5.1 Command: /home/biocbuild/R/R/bin/R CMD INSTALL saseR StartedAt: 2025-07-10 22:04:50 -0000 (Thu, 10 Jul 2025) EndedAt: 2025-07-10 22:06:04 -0000 (Thu, 10 Jul 2025) EllapsedTime: 73.2 seconds RetCode: 0 Status: OK