Package: saseR Version: 1.5.1 Command: F:\biocbuild\bbs-3.22-bioc\R\bin\R.exe CMD INSTALL saseR StartedAt: 2025-07-14 16:56:21 -0400 (Mon, 14 Jul 2025) EndedAt: 2025-07-14 16:57:35 -0400 (Mon, 14 Jul 2025) EllapsedTime: 73.6 seconds RetCode: 0 Status: OK