Package: saseR Version: 1.5.1 Command: chmod a+r saseR -R && F:\biocbuild\bbs-3.22-bioc\R\bin\R.exe CMD build --keep-empty-dirs --no-resave-data saseR StartedAt: 2025-07-14 21:49:36 -0400 (Mon, 14 Jul 2025) EndedAt: 2025-07-14 21:54:59 -0400 (Mon, 14 Jul 2025) EllapsedTime: 323.5 seconds RetCode: 0 Status: OK PackageFile: saseR_1.5.1.tar.gz PackageFileSize: 1.207 MiB