Package: saseR Version: 1.5.1 Command: /Library/Frameworks/R.framework/Resources/bin/R CMD INSTALL saseR StartedAt: 2025-07-16 15:41:53 -0400 (Wed, 16 Jul 2025) EndedAt: 2025-07-16 15:43:05 -0400 (Wed, 16 Jul 2025) EllapsedTime: 72.7 seconds RetCode: 0 Status: OK