Package: saseR Version: 1.5.1 Command: /Library/Frameworks/R.framework/Resources/bin/R CMD check --install=check:saseR.install-out.txt --library=/Library/Frameworks/R.framework/Resources/library --no-vignettes --timings saseR_1.5.1.tar.gz StartedAt: 2025-07-13 23:21:26 -0400 (Sun, 13 Jul 2025) EndedAt: 2025-07-13 23:29:14 -0400 (Sun, 13 Jul 2025) EllapsedTime: 468.5 seconds RetCode: 0 Status: WARNINGS CheckDir: saseR.Rcheck Warnings: 1