Package: saseR Version: 1.5.1 Command: /Library/Frameworks/R.framework/Resources/bin/R CMD check --install=check:saseR.install-out.txt --library=/Library/Frameworks/R.framework/Resources/library --no-vignettes --timings saseR_1.5.1.tar.gz StartedAt: 2025-07-14 21:11:55 -0400 (Mon, 14 Jul 2025) EndedAt: 2025-07-14 21:14:46 -0400 (Mon, 14 Jul 2025) EllapsedTime: 170.2 seconds RetCode: 0 Status: WARNINGS CheckDir: saseR.Rcheck Warnings: 1