Package: saseR Version: 1.5.1 Command: rm -rf saseR.buildbin-libdir && mkdir saseR.buildbin-libdir && /Users/biocbuild/BBS/utils/build-universal.sh saseR_1.5.1.tar.gz /Library/Frameworks/R.framework/Resources/bin/R saseR.buildbin-libdir StartedAt: 2025-07-14 22:33:28 -0400 (Mon, 14 Jul 2025) EndedAt: 2025-07-14 22:33:51 -0400 (Mon, 14 Jul 2025) EllapsedTime: 23.4 seconds RetCode: 0 Status: OK PackageFile: saseR_1.5.1.tgz PackageFileSize: 1.356 MiB