Package: sarks Version: 1.21.0 Command: /home/biocbuild/R/R/bin/R CMD build --keep-empty-dirs --no-resave-data sarks StartedAt: 2025-07-25 03:30:32 -0000 (Fri, 25 Jul 2025) EndedAt: 2025-07-25 03:31:06 -0000 (Fri, 25 Jul 2025) EllapsedTime: 34.0 seconds RetCode: 0 Status: OK PackageFile: sarks_1.21.0.tar.gz PackageFileSize: 725 KiB