Package: sarks Version: 1.21.0 Command: F:\biocbuild\bbs-3.22-bioc\R\bin\R.exe CMD INSTALL sarks StartedAt: 2025-07-24 15:57:11 -0400 (Thu, 24 Jul 2025) EndedAt: 2025-07-24 15:57:32 -0400 (Thu, 24 Jul 2025) EllapsedTime: 20.6 seconds RetCode: 0 Status: OK