Package: sarks Version: 1.21.0 Command: rm -rf sarks.buildbin-libdir && mkdir sarks.buildbin-libdir && /Users/biocbuild/BBS/utils/build-universal.sh sarks_1.21.0.tar.gz /Library/Frameworks/R.framework/Resources/bin/R sarks.buildbin-libdir StartedAt: 2025-07-12 01:17:09 -0400 (Sat, 12 Jul 2025) EndedAt: 2025-07-12 01:17:29 -0400 (Sat, 12 Jul 2025) EllapsedTime: 19.7 seconds RetCode: 0 Status: OK PackageFile: sarks_1.21.0.tgz PackageFileSize: 775.1 KiB