Package: sangerseqR Version: 1.45.0 Command: /home/biocbuild/R/R/bin/R CMD build --keep-empty-dirs --no-resave-data sangerseqR StartedAt: 2025-07-01 02:32:15 -0000 (Tue, 01 Jul 2025) EndedAt: 2025-07-01 02:33:08 -0000 (Tue, 01 Jul 2025) EllapsedTime: 53.1 seconds RetCode: 0 Status: OK PackageFile: sangerseqR_1.45.0.tar.gz PackageFileSize: 2.125 MiB