Package: sangerseqR Version: 1.45.0 Command: F:\biocbuild\bbs-3.22-bioc\R\bin\R.exe CMD INSTALL sangerseqR StartedAt: 2025-07-07 16:39:03 -0400 (Mon, 07 Jul 2025) EndedAt: 2025-07-07 16:39:43 -0400 (Mon, 07 Jul 2025) EllapsedTime: 39.2 seconds RetCode: 0 Status: OK