Package: sangerseqR Version: 1.45.0 Command: F:\biocbuild\bbs-3.22-bioc\R\bin\R.exe CMD check --no-multiarch --install=check:sangerseqR.install-out.txt --library=F:\biocbuild\bbs-3.22-bioc\R\library --no-vignettes --timings sangerseqR_1.45.0.tar.gz StartedAt: 2025-07-08 06:06:08 -0400 (Tue, 08 Jul 2025) EndedAt: 2025-07-08 06:08:35 -0400 (Tue, 08 Jul 2025) EllapsedTime: 146.3 seconds RetCode: 0 Status: OK CheckDir: sangerseqR.Rcheck Warnings: 0