Package: sangerseqR Version: 1.45.0 Command: chmod a+r sangerseqR -R && F:\biocbuild\bbs-3.22-bioc\R\bin\R.exe CMD build --keep-empty-dirs --no-resave-data sangerseqR StartedAt: 2025-07-07 21:47:06 -0400 (Mon, 07 Jul 2025) EndedAt: 2025-07-07 21:48:08 -0400 (Mon, 07 Jul 2025) EllapsedTime: 61.8 seconds RetCode: 0 Status: OK PackageFile: sangerseqR_1.45.0.tar.gz PackageFileSize: 1.649 MiB