Package: sangerseqR Version: 1.45.0 Command: /home/biocbuild/bbs-3.22-bioc/R/bin/R CMD check --install=check:sangerseqR.install-out.txt --library=/home/biocbuild/bbs-3.22-bioc/R/site-library --timings sangerseqR_1.45.0.tar.gz StartedAt: 2025-07-05 01:58:32 -0400 (Sat, 05 Jul 2025) EndedAt: 2025-07-05 02:00:44 -0400 (Sat, 05 Jul 2025) EllapsedTime: 131.2 seconds RetCode: 0 Status: OK CheckDir: sangerseqR.Rcheck Warnings: 0