Package: sangerseqR Version: 1.45.0 Command: /Library/Frameworks/R.framework/Resources/bin/R CMD INSTALL sangerseqR StartedAt: 2025-07-07 15:38:56 -0400 (Mon, 07 Jul 2025) EndedAt: 2025-07-07 15:39:14 -0400 (Mon, 07 Jul 2025) EllapsedTime: 18.5 seconds RetCode: 0 Status: OK