Package: sangerseqR Version: 1.45.0 Command: /Library/Frameworks/R.framework/Resources/bin/R CMD check --install=check:sangerseqR.install-out.txt --library=/Library/Frameworks/R.framework/Resources/library --no-vignettes --timings sangerseqR_1.45.0.tar.gz StartedAt: 2025-07-04 21:10:52 -0400 (Fri, 04 Jul 2025) EndedAt: 2025-07-04 21:11:36 -0400 (Fri, 04 Jul 2025) EllapsedTime: 43.6 seconds RetCode: 0 Status: OK CheckDir: sangerseqR.Rcheck Warnings: 0