Package: sangerseqR Version: 1.45.0 Command: rm -rf sangerseqR.buildbin-libdir && mkdir sangerseqR.buildbin-libdir && /Users/biocbuild/BBS/utils/build-universal.sh sangerseqR_1.45.0.tar.gz /Library/Frameworks/R.framework/Resources/bin/R sangerseqR.buildbin-libdir StartedAt: 2025-07-04 22:32:46 -0400 (Fri, 04 Jul 2025) EndedAt: 2025-07-04 22:32:52 -0400 (Fri, 04 Jul 2025) EllapsedTime: 6.1 seconds RetCode: 0 Status: OK PackageFile: sangerseqR_1.45.0.tgz PackageFileSize: 3.186 MiB