Package: sangerseqR Version: 1.45.0 Maintainer: Jonathon Hill MaintainerEmail: jhill at byu.edu git_url: https://git.bioconductor.org/packages/sangerseqR git_branch: devel git_last_commit: 6eecdbe git_last_commit_date: 2025-04-15 10:28:56 -0400 (Tue, 15 Apr 2025)