Package: sagenhaft Version: 1.79.0 Command: F:\biocbuild\bbs-3.22-bioc\R\bin\R.exe CMD INSTALL sagenhaft StartedAt: 2025-07-24 15:27:07 -0400 (Thu, 24 Jul 2025) EndedAt: 2025-07-24 15:27:26 -0400 (Thu, 24 Jul 2025) EllapsedTime: 19.5 seconds RetCode: 0 Status: OK