Package: safe Version: 3.49.0 Command: /Library/Frameworks/R.framework/Resources/bin/R CMD check --install=check:safe.install-out.txt --library=/Library/Frameworks/R.framework/Resources/library --no-vignettes --timings safe_3.49.0.tar.gz StartedAt: 2025-07-11 23:18:22 -0400 (Fri, 11 Jul 2025) EndedAt: 2025-07-11 23:20:08 -0400 (Fri, 11 Jul 2025) EllapsedTime: 105.6 seconds RetCode: 0 Status: OK CheckDir: safe.Rcheck Warnings: 0