Package: safe Version: 3.49.0 Command: /Library/Frameworks/R.framework/Resources/bin/R CMD build --keep-empty-dirs --no-resave-data safe StartedAt: 2025-07-11 18:19:17 -0400 (Fri, 11 Jul 2025) EndedAt: 2025-07-11 18:24:43 -0400 (Fri, 11 Jul 2025) EllapsedTime: 325.8 seconds RetCode: 0 Status: OK PackageFile: safe_3.49.0.tar.gz PackageFileSize: 708.7 KiB