Package: sSeq Version: 1.47.0 Command: /home/biocbuild/R/R/bin/R CMD INSTALL sSeq StartedAt: 2025-10-23 20:19:53 -0000 (Thu, 23 Oct 2025) EndedAt: 2025-10-23 20:20:26 -0000 (Thu, 23 Oct 2025) EllapsedTime: 33.5 seconds RetCode: 0 Status: OK