Package: sRACIPE Version: 2.1.1 Command: /home/biocbuild/R/R/bin/R CMD check --install=check:sRACIPE.install-out.txt --library=/home/biocbuild/R/R/site-library --no-vignettes --timings sRACIPE_2.1.1.tar.gz StartedAt: 2025-10-03 12:03:40 -0000 (Fri, 03 Oct 2025) EndedAt: 2025-10-03 12:07:52 -0000 (Fri, 03 Oct 2025) EllapsedTime: 252.4 seconds RetCode: 0 Status: OK CheckDir: sRACIPE.Rcheck Warnings: 0