Package: sRACIPE Version: 2.1.0 Command: F:\biocbuild\bbs-3.22-bioc\R\bin\R.exe CMD INSTALL sRACIPE StartedAt: 2025-07-21 16:14:44 -0400 (Mon, 21 Jul 2025) EndedAt: 2025-07-21 16:16:02 -0400 (Mon, 21 Jul 2025) EllapsedTime: 78.4 seconds RetCode: 0 Status: OK