Package: sRACIPE Version: 2.1.0 Command: chmod a+r sRACIPE -R && F:\biocbuild\bbs-3.22-bioc\R\bin\R.exe CMD build --keep-empty-dirs --no-resave-data sRACIPE StartedAt: 2025-07-21 22:27:55 -0400 (Mon, 21 Jul 2025) EndedAt: 2025-07-21 22:29:41 -0400 (Mon, 21 Jul 2025) EllapsedTime: 106.2 seconds RetCode: 0 Status: OK PackageFile: sRACIPE_2.1.0.tar.gz PackageFileSize: 1.673 MiB