Package: runibic Version: 1.31.0 Command: /home/biocbuild/R/R/bin/R CMD INSTALL runibic StartedAt: 2025-07-14 20:57:47 -0000 (Mon, 14 Jul 2025) EndedAt: 2025-07-14 20:58:38 -0000 (Mon, 14 Jul 2025) EllapsedTime: 51.8 seconds RetCode: 0 Status: OK