Package: runibic Version: 1.31.0 Command: /home/biocbuild/R/R/bin/R CMD check --install=check:runibic.install-out.txt --library=/home/biocbuild/R/R/site-library --no-vignettes --timings runibic_1.31.0.tar.gz StartedAt: 2025-07-18 10:43:16 -0000 (Fri, 18 Jul 2025) EndedAt: 2025-07-18 10:46:48 -0000 (Fri, 18 Jul 2025) EllapsedTime: 212.2 seconds RetCode: 0 Status: OK CheckDir: runibic.Rcheck Warnings: 0