Package: runibic Version: 1.31.0 Command: /home/biocbuild/R/R/bin/R CMD build --keep-empty-dirs --no-resave-data runibic StartedAt: 2025-07-15 02:30:25 -0000 (Tue, 15 Jul 2025) EndedAt: 2025-07-15 02:31:19 -0000 (Tue, 15 Jul 2025) EllapsedTime: 54.1 seconds RetCode: 0 Status: OK PackageFile: runibic_1.31.0.tar.gz PackageFileSize: 45.66 KiB