Package: runibic Version: 1.31.0 Command: chmod a+r runibic -R && F:\biocbuild\bbs-3.22-bioc\R\bin\R.exe CMD build --keep-empty-dirs --no-resave-data runibic StartedAt: 2025-07-24 22:00:40 -0400 (Thu, 24 Jul 2025) EndedAt: 2025-07-24 22:01:38 -0400 (Thu, 24 Jul 2025) EllapsedTime: 58.0 seconds RetCode: 0 Status: OK PackageFile: runibic_1.31.0.tar.gz PackageFileSize: 44.89 KiB