Package: rtracklayer Version: 1.69.1 Command: /home/biocbuild/R/R/bin/R CMD INSTALL rtracklayer StartedAt: 2025-06-30 20:43:13 -0000 (Mon, 30 Jun 2025) EndedAt: 2025-06-30 20:44:21 -0000 (Mon, 30 Jun 2025) EllapsedTime: 67.7 seconds RetCode: 0 Status: OK