Package: rtracklayer Version: 1.69.1 Command: chmod a+r rtracklayer -R && F:\biocbuild\bbs-3.22-bioc\R\bin\R.exe CMD build --keep-empty-dirs --no-resave-data rtracklayer StartedAt: 2025-07-24 21:59:46 -0400 (Thu, 24 Jul 2025) EndedAt: 2025-07-24 22:05:03 -0400 (Thu, 24 Jul 2025) EllapsedTime: 316.7 seconds RetCode: 0 Status: OK PackageFile: rtracklayer_1.69.1.tar.gz PackageFileSize: 3.755 MiB