Package: rtracklayer Version: 1.69.1 Command: rm -rf rtracklayer.buildbin-libdir && mkdir rtracklayer.buildbin-libdir && F:\biocbuild\bbs-3.22-bioc\R\bin\R.exe CMD INSTALL --build --library=rtracklayer.buildbin-libdir rtracklayer_1.69.1.tar.gz StartedAt: 2025-07-25 10:11:13 -0400 (Fri, 25 Jul 2025) EndedAt: 2025-07-25 10:17:13 -0400 (Fri, 25 Jul 2025) EllapsedTime: 360.1 seconds RetCode: 0 Status: OK PackageFile: rtracklayer_1.69.1.zip PackageFileSize: 9.657 MiB