Package: rtracklayer Version: 1.69.1 Command: /Library/Frameworks/R.framework/Resources/bin/R CMD check --install=check:rtracklayer.install-out.txt --library=/Library/Frameworks/R.framework/Resources/library --no-vignettes --timings rtracklayer_1.69.1.tar.gz StartedAt: 2025-06-29 23:00:45 -0400 (Sun, 29 Jun 2025) EndedAt: 2025-06-29 23:07:20 -0400 (Sun, 29 Jun 2025) EllapsedTime: 395.2 seconds RetCode: 0 Status: WARNINGS CheckDir: rtracklayer.Rcheck Warnings: 2