Package: rtracklayer Version: 1.69.1 Command: rm -rf rtracklayer.buildbin-libdir && mkdir rtracklayer.buildbin-libdir && /Users/biocbuild/BBS/utils/build-universal.sh rtracklayer_1.69.1.tar.gz /Library/Frameworks/R.framework/Resources/bin/R rtracklayer.buildbin-libdir StartedAt: 2025-06-30 00:58:45 -0400 (Mon, 30 Jun 2025) EndedAt: 2025-06-30 01:00:18 -0400 (Mon, 30 Jun 2025) EllapsedTime: 93.6 seconds RetCode: 0 Status: OK PackageFile: rtracklayer_1.69.1.tgz PackageFileSize: 7.464 MiB