Package: rtracklayer Version: 1.69.1 Command: /Library/Frameworks/R.framework/Resources/bin/R CMD INSTALL rtracklayer StartedAt: 2025-06-29 15:16:20 -0400 (Sun, 29 Jun 2025) EndedAt: 2025-06-29 15:16:40 -0400 (Sun, 29 Jun 2025) EllapsedTime: 20.3 seconds RetCode: 0 Status: OK