Package: rtracklayer Version: 1.69.1 Command: /Library/Frameworks/R.framework/Resources/bin/R CMD build --keep-empty-dirs --no-resave-data rtracklayer StartedAt: 2025-06-29 17:26:49 -0400 (Sun, 29 Jun 2025) EndedAt: 2025-06-29 17:27:24 -0400 (Sun, 29 Jun 2025) EllapsedTime: 35.4 seconds RetCode: 0 Status: OK PackageFile: rtracklayer_1.69.1.tar.gz PackageFileSize: 3.897 MiB