Package: rsemmed Version: 1.19.0 Command: /home/biocbuild/bbs-3.22-bioc/R/bin/R CMD INSTALL rsemmed StartedAt: 2025-06-29 15:12:47 -0400 (Sun, 29 Jun 2025) EndedAt: 2025-06-29 15:12:57 -0400 (Sun, 29 Jun 2025) EllapsedTime: 10.1 seconds RetCode: 0 Status: OK