Package: rsemmed Version: 1.19.0 Command: /home/biocbuild/bbs-3.22-bioc/R/bin/R CMD check --install=check:rsemmed.install-out.txt --library=/home/biocbuild/bbs-3.22-bioc/R/site-library --timings rsemmed_1.19.0.tar.gz StartedAt: 2025-06-30 01:53:00 -0400 (Mon, 30 Jun 2025) EndedAt: 2025-06-30 01:53:45 -0400 (Mon, 30 Jun 2025) EllapsedTime: 45.1 seconds RetCode: 0 Status: OK CheckDir: rsemmed.Rcheck Warnings: 0