Package: rsemmed Version: 1.19.0 Command: /home/biocbuild/bbs-3.22-bioc/R/bin/R CMD build --keep-empty-dirs --no-resave-data --md5 rsemmed StartedAt: 2025-06-29 18:56:21 -0400 (Sun, 29 Jun 2025) EndedAt: 2025-06-29 18:56:41 -0400 (Sun, 29 Jun 2025) EllapsedTime: 20.0 seconds RetCode: 0 Status: OK PackageFile: rsemmed_1.19.0.tar.gz PackageFileSize: 2.132 MiB