Package: rrvgo Version: 1.21.1 Command: chmod a+r rrvgo -R && F:\biocbuild\bbs-3.22-bioc\R\bin\R.exe CMD build --keep-empty-dirs --no-resave-data rrvgo StartedAt: 2025-07-24 21:58:06 -0400 (Thu, 24 Jul 2025) EndedAt: 2025-07-24 22:01:04 -0400 (Thu, 24 Jul 2025) EllapsedTime: 178.0 seconds RetCode: 0 Status: OK PackageFile: rrvgo_1.21.1.tar.gz PackageFileSize: 1.543 MiB