Package: rrvgo Version: 1.21.1 Command: /home/biocbuild/bbs-3.22-bioc/R/bin/R CMD check --install=check:rrvgo.install-out.txt --library=/home/biocbuild/bbs-3.22-bioc/R/site-library --timings rrvgo_1.21.1.tar.gz StartedAt: 2025-07-14 01:55:41 -0400 (Mon, 14 Jul 2025) EndedAt: 2025-07-14 02:15:44 -0400 (Mon, 14 Jul 2025) EllapsedTime: 1202.6 seconds RetCode: 0 Status: OK CheckDir: rrvgo.Rcheck Warnings: 0