Package: rrvgo Version: 1.21.1 Command: /home/biocbuild/bbs-3.22-bioc/R/bin/R CMD build --keep-empty-dirs --no-resave-data --md5 rrvgo StartedAt: 2025-07-13 18:53:27 -0400 (Sun, 13 Jul 2025) EndedAt: 2025-07-13 18:55:59 -0400 (Sun, 13 Jul 2025) EllapsedTime: 152.2 seconds RetCode: 0 Status: OK PackageFile: rrvgo_1.21.1.tar.gz PackageFileSize: 1.989 MiB