Package: rrvgo Version: 1.21.1 Command: /Library/Frameworks/R.framework/Resources/bin/R CMD INSTALL rrvgo StartedAt: 2025-07-22 15:23:38 -0400 (Tue, 22 Jul 2025) EndedAt: 2025-07-22 15:23:47 -0400 (Tue, 22 Jul 2025) EllapsedTime: 8.4 seconds RetCode: 0 Status: OK