Package: rrvgo Version: 1.21.1 Command: /Library/Frameworks/R.framework/Resources/bin/R CMD check --install=check:rrvgo.install-out.txt --library=/Library/Frameworks/R.framework/Resources/library --no-vignettes --timings rrvgo_1.21.1.tar.gz StartedAt: 2025-07-22 21:13:32 -0400 (Tue, 22 Jul 2025) EndedAt: 2025-07-22 21:21:15 -0400 (Tue, 22 Jul 2025) EllapsedTime: 462.8 seconds RetCode: 0 Status: OK CheckDir: rrvgo.Rcheck Warnings: 0