Package: rrvgo Version: 1.21.1 Command: /Library/Frameworks/R.framework/Resources/bin/R CMD build --keep-empty-dirs --no-resave-data rrvgo StartedAt: 2025-07-22 17:25:29 -0400 (Tue, 22 Jul 2025) EndedAt: 2025-07-22 17:26:40 -0400 (Tue, 22 Jul 2025) EllapsedTime: 70.8 seconds RetCode: 0 Status: OK PackageFile: rrvgo_1.21.1.tar.gz PackageFileSize: 1.874 MiB